BEGIN:VCALENDAR
VERSION:2.0
PRODID:-//Amicalekoor Malderen - ECPv6.15.20//NONSGML v1.0//EN
CALSCALE:GREGORIAN
METHOD:PUBLISH
X-WR-CALNAME:Amicalekoor Malderen
X-ORIGINAL-URL:https://amicalekoor.be
X-WR-CALDESC:Evenementen voor Amicalekoor Malderen
REFRESH-INTERVAL;VALUE=DURATION:PT1H
X-Robots-Tag:noindex
X-PUBLISHED-TTL:PT1H
BEGIN:VTIMEZONE
TZID:Europe/Brussels
BEGIN:DAYLIGHT
TZOFFSETFROM:+0100
TZOFFSETTO:+0200
TZNAME:CEST
DTSTART:20150329T010000
END:DAYLIGHT
BEGIN:STANDARD
TZOFFSETFROM:+0200
TZOFFSETTO:+0100
TZNAME:CET
DTSTART:20151025T010000
END:STANDARD
BEGIN:DAYLIGHT
TZOFFSETFROM:+0100
TZOFFSETTO:+0200
TZNAME:CEST
DTSTART:20160327T010000
END:DAYLIGHT
BEGIN:STANDARD
TZOFFSETFROM:+0200
TZOFFSETTO:+0100
TZNAME:CET
DTSTART:20161030T010000
END:STANDARD
BEGIN:DAYLIGHT
TZOFFSETFROM:+0100
TZOFFSETTO:+0200
TZNAME:CEST
DTSTART:20170326T010000
END:DAYLIGHT
BEGIN:STANDARD
TZOFFSETFROM:+0200
TZOFFSETTO:+0100
TZNAME:CET
DTSTART:20171029T010000
END:STANDARD
BEGIN:DAYLIGHT
TZOFFSETFROM:+0100
TZOFFSETTO:+0200
TZNAME:CEST
DTSTART:20180325T010000
END:DAYLIGHT
BEGIN:STANDARD
TZOFFSETFROM:+0200
TZOFFSETTO:+0100
TZNAME:CET
DTSTART:20181028T010000
END:STANDARD
BEGIN:DAYLIGHT
TZOFFSETFROM:+0100
TZOFFSETTO:+0200
TZNAME:CEST
DTSTART:20190331T010000
END:DAYLIGHT
BEGIN:STANDARD
TZOFFSETFROM:+0200
TZOFFSETTO:+0100
TZNAME:CET
DTSTART:20191027T010000
END:STANDARD
BEGIN:DAYLIGHT
TZOFFSETFROM:+0100
TZOFFSETTO:+0200
TZNAME:CEST
DTSTART:20200329T010000
END:DAYLIGHT
BEGIN:STANDARD
TZOFFSETFROM:+0200
TZOFFSETTO:+0100
TZNAME:CET
DTSTART:20201025T010000
END:STANDARD
BEGIN:DAYLIGHT
TZOFFSETFROM:+0100
TZOFFSETTO:+0200
TZNAME:CEST
DTSTART:20210328T010000
END:DAYLIGHT
BEGIN:STANDARD
TZOFFSETFROM:+0200
TZOFFSETTO:+0100
TZNAME:CET
DTSTART:20211031T010000
END:STANDARD
BEGIN:DAYLIGHT
TZOFFSETFROM:+0100
TZOFFSETTO:+0200
TZNAME:CEST
DTSTART:20220327T010000
END:DAYLIGHT
BEGIN:STANDARD
TZOFFSETFROM:+0200
TZOFFSETTO:+0100
TZNAME:CET
DTSTART:20221030T010000
END:STANDARD
BEGIN:DAYLIGHT
TZOFFSETFROM:+0100
TZOFFSETTO:+0200
TZNAME:CEST
DTSTART:20230326T010000
END:DAYLIGHT
BEGIN:STANDARD
TZOFFSETFROM:+0200
TZOFFSETTO:+0100
TZNAME:CET
DTSTART:20231029T010000
END:STANDARD
BEGIN:DAYLIGHT
TZOFFSETFROM:+0100
TZOFFSETTO:+0200
TZNAME:CEST
DTSTART:20240331T010000
END:DAYLIGHT
BEGIN:STANDARD
TZOFFSETFROM:+0200
TZOFFSETTO:+0100
TZNAME:CET
DTSTART:20241027T010000
END:STANDARD
BEGIN:DAYLIGHT
TZOFFSETFROM:+0100
TZOFFSETTO:+0200
TZNAME:CEST
DTSTART:20250330T010000
END:DAYLIGHT
BEGIN:STANDARD
TZOFFSETFROM:+0200
TZOFFSETTO:+0100
TZNAME:CET
DTSTART:20251026T010000
END:STANDARD
BEGIN:DAYLIGHT
TZOFFSETFROM:+0100
TZOFFSETTO:+0200
TZNAME:CEST
DTSTART:20260329T010000
END:DAYLIGHT
BEGIN:STANDARD
TZOFFSETFROM:+0200
TZOFFSETTO:+0100
TZNAME:CET
DTSTART:20261025T010000
END:STANDARD
BEGIN:DAYLIGHT
TZOFFSETFROM:+0100
TZOFFSETTO:+0200
TZNAME:CEST
DTSTART:20270328T010000
END:DAYLIGHT
BEGIN:STANDARD
TZOFFSETFROM:+0200
TZOFFSETTO:+0100
TZNAME:CET
DTSTART:20271031T010000
END:STANDARD
END:VTIMEZONE
BEGIN:VEVENT
DTSTART;TZID=Europe/Brussels:20260404T190000
DTEND;TZID=Europe/Brussels:20260404T210000
DTSTAMP:20260422T012835
CREATED:20250810T125415Z
LAST-MODIFIED:20250810T125415Z
UID:1245-1775329200-1775336400@amicalekoor.be
SUMMARY:Concert met de ForeverBand
DESCRIPTION:Amicale brengt voor het eerst een concert samen met de Forever Band uit Steenhuffel. \nVrijdag 3 en zaterdag 4 april 2026 in de GC de Nestel in Puurs-Sint-Amands\, Buisstraat 19C. \nKom langs en geniet van de prachtige afwisseling van muziek en gezang. \n\n  \nStart- & einduur nog te bepalen.
URL:https://amicalekoor.be/event/concert-met-de-foreverband-2/
CATEGORIES:Concert
END:VEVENT
BEGIN:VEVENT
DTSTART;TZID=Europe/Brussels:20260403T190000
DTEND;TZID=Europe/Brussels:20260403T210000
DTSTAMP:20260422T012835
CREATED:20250810T125118Z
LAST-MODIFIED:20250810T125118Z
UID:1242-1775242800-1775250000@amicalekoor.be
SUMMARY:Concert met de ForeverBand
DESCRIPTION:Amicale brengt voor het eerst een concert samen met de Forever Band uit Steenhuffel. \nVrijdag 3 en zaterdag 4 april 2026 in de GC de Nestel in Puurs-Sint-Amands\, Buisstraat 19C. \nKom langs en geniet van de prachtige afwisseling van muziek en gezang.
URL:https://amicalekoor.be/event/concert-met-de-foreverband/
LOCATION:GC de Nestel\, Buisstraat 19C\, Puurs-Sint-Amands\, 2890\, Belgium
CATEGORIES:Concert
END:VEVENT
BEGIN:VEVENT
DTSTART;TZID=Europe/Brussels:20250823T150000
DTEND;TZID=Europe/Brussels:20250823T180000
DTSTAMP:20260422T012835
CREATED:20250810T123541Z
LAST-MODIFIED:20250810T135046Z
UID:1240-1755961200-1755972000@amicalekoor.be
SUMMARY:900 jaar Malderen
DESCRIPTION:Op zaterdag 23 augustus geeft het Amicalekoor\, olv An-Sophie Van den Neucker\, 3 workshops (om 15u – 16u – 17u) in de kerk van Malderen om ‘Malvern’\, een hymne speciaal geschreven voor de viering van 900 jaar Malderen\, aan te leren. \nTijdens de workshops wordt de hoofdmelodie van de hymne aangeleerd door de dirigente van het Amicalekoor. Diegene die één van de workshops volgde kan tijdens de uitvoering ervan op zondag 24 augustus om 11u meezingen met het Amicalekoor\, de fanfares Concordia en De Ware vrienden. \n900 jaar Malderen
URL:https://amicalekoor.be/event/900-jaar-malderen/
LOCATION:Sint-Amanduskerk Malderen\, Jozef Vermaesenplein 15-21\, Malderen
ORGANIZER;CN="Amicalekoor":MAILTO:amicalekoor@hotmail.com
END:VEVENT
BEGIN:VEVENT
DTSTART;TZID=Europe/Brussels:20250615T150000
DTEND;TZID=Europe/Brussels:20250615T163000
DTSTAMP:20260422T012835
CREATED:20250523T083616Z
LAST-MODIFIED:20250527T064937Z
UID:1215-1749999600-1750005000@amicalekoor.be
SUMMARY:Concert Tutti Amicale 15/06/25
DESCRIPTION:Laat je betoveren door de harmonieën van Tutti Amicale tijdens ons concert op 15 juni 2025 in de Sint-Jozefkerk van Londerzeel. Onder leiding van An-Sophie Van Den Neucker brengt het koor een sfeervolle muzikale namiddag. Het concert start om 15u\, de deuren openen om 14u30. Tickets kosten €15 en zijn verkrijgbaar via amicalekoor@hotmail.com.
URL:https://amicalekoor.be/event/concert-tutti-amicale-15-06-25/
LOCATION:Sint-Jozefkerk Londerzeel\, Sint-Jozefstraat 2\, Londerzeel\, 1840\, Belgium
CATEGORIES:Concert
ATTACH;FMTTYPE=image/webp:https://amicalekoor.be/wp-content/uploads/2025/05/Tutti-Amicale-scaled.webp
ORGANIZER;CN="Amicalekoor":MAILTO:amicalekoor@hotmail.com
END:VEVENT
BEGIN:VEVENT
DTSTART;TZID=Europe/Brussels:20250330T103000
DTEND;TZID=Europe/Brussels:20250330T180000
DTSTAMP:20260422T012835
CREATED:20250115T071614Z
LAST-MODIFIED:20250228T160140Z
UID:1190-1743330600-1743357600@amicalekoor.be
SUMMARY:Amicale Bistro 30/03
DESCRIPTION:Op zondag 30 maart van 10u30 tot 18u kan je in het Gildenhuis van Malderen een bezoekje brengen aan Amicale bistro. Je kan in ons gezellig café terecht voor allerlei dranken\, een knabbelbord\, een croque uit het vuistje\, een stukje zelfgebakken taart met koffie of thee of een tas verse soep met brood.
URL:https://amicalekoor.be/event/amicale-bistro-2025/
LOCATION:Gildenhuis Malderen\, Kloosterstraat 22\, Malderen (Londerzeel)\, 1840
CATEGORIES:Eetfestijn
ATTACH;FMTTYPE=image/png:https://amicalekoor.be/wp-content/uploads/2025/01/Amicale-cafe.png
ORGANIZER;CN="Amicalekoor":MAILTO:amicalekoor@hotmail.com
END:VEVENT
BEGIN:VEVENT
DTSTART;TZID=Europe/Brussels:20250116T200000
DTEND;TZID=Europe/Brussels:20250116T220000
DTSTAMP:20260422T012835
CREATED:20250115T071913Z
LAST-MODIFIED:20250115T095800Z
UID:1193-1737057600-1737064800@amicalekoor.be
SUMMARY:Open Koorrepetitie 16/01
DESCRIPTION:Open Koorepetitie Amicalekoor \n\nHeb je altijd al willen zingen in een gezellig\, amicaal en dynamisch koor?\nKom dan naar onze open repetitie op donderdag 16 januari!\n\n\nOnze wekelijkse repetities vinden elke donderdag plaats van 20u tot 22u. Elke denderende derde donderdag van de maand vieren we bovendien de jarigen\, en dat doen we op kosten van het koor!\n\n\n\nVoor deze open repetitie zijn we voornamelijk op zoek naar (jongere) mannen om ons koor verder te versterken. We hopen je te zien!\n\n Locatie: Zaal Foreverband\, Sint-Niklaasstraat 36 te Steenhuffel\n Datum: 16 januari 2025\n Tijd: 20u-22u\n\n\n\nWe kijken ernaar uit om samen te zingen!\n\nLukt het donderdag 16 januari niet? Kom dan gewoon op een andere donderdag eens langs\, altijd welkom! Je kan ons ook contacteren via amicalekoor@hotmail.com\n\n 
URL:https://amicalekoor.be/event/open-koorrepetitie-16-01/
LOCATION:Zaal Forever\, Sint-Niklaasstraat 36\, Steenhuffel\, 1840
CATEGORIES:Repetitie
ORGANIZER;CN="Amicalekoor":MAILTO:amicalekoor@hotmail.com
END:VEVENT
BEGIN:VEVENT
DTSTART;TZID=Europe/Brussels:20241208T150000
DTEND;TZID=Europe/Brussels:20241208T163000
DTSTAMP:20260422T012835
CREATED:20241109T125019Z
LAST-MODIFIED:20241109T125043Z
UID:1176-1733670000-1733675400@amicalekoor.be
SUMMARY:Amicale zingt ‘nu’ op 8/12
DESCRIPTION:🎶 Kom naar het concert van het Amicalekoor Malderen! 🎶 \nOp 7 en 8 december nodigen wij u uit voor een onvergetelijke muzikale avond. Onder de bezielende leiding van An-Sophie Van Den Neucker brengt het Amicalekoor een prachtig repertoire van hedendaagse muziek. Laat u meevoeren door de harmonieën en geniet van een avond vol muzikale verrassingen. \n📅 Data: 7 en 8 december 📍 Locatie: GC Gerard Walschap Londerzeel Sint-Jozef \nMis het niet en beleef een avond/namiddag vol muziek en magie! 🎵 \nWe hopen u daar te zien! 😊
URL:https://amicalekoor.be/event/amicale-zingt-nu-op-8-12/
LOCATION:GC Gerard Walschap Londerzeel Sint-Jozef\, Sint Jozefstraat 44\, Londerzeel Sint-Jozef\, 1840\, Belgium
CATEGORIES:Concert
ATTACH;FMTTYPE=image/png:https://amicalekoor.be/wp-content/uploads/2024/11/Amicale-zingt-nu-1.png
ORGANIZER;CN="Amicalekoor":MAILTO:amicalekoor@hotmail.com
END:VEVENT
BEGIN:VEVENT
DTSTART;TZID=Europe/Brussels:20241207T200000
DTEND;TZID=Europe/Brussels:20241207T213000
DTSTAMP:20260422T012835
CREATED:20241109T124712Z
LAST-MODIFIED:20241109T125057Z
UID:1172-1733601600-1733607000@amicalekoor.be
SUMMARY:Amicale zingt ‘nu’ op 7/12
DESCRIPTION:🎶 Kom naar het concert van het Amicalekoor Malderen! 🎶 \nOp 7 en 8 december nodigen wij u uit voor een onvergetelijke muzikale avond. Onder de bezielende leiding van An-Sophie Van Den Neucker brengt het Amicalekoor een prachtig repertoire van hedendaagse muziek. Laat u meevoeren door de harmonieën en geniet van een avond vol muzikale verrassingen. \n📅 Data: 7 en 8 december 📍 Locatie: GC Gerard Walschap Londerzeel Sint-Jozef \nMis het niet en beleef een avond/namiddag vol muziek en magie! 🎵 \nWe hopen u daar te zien! 😊
URL:https://amicalekoor.be/event/amicale-zingt-nu/
LOCATION:GC Gerard Walschap Londerzeel Sint-Jozef\, Sint Jozefstraat 44\, Londerzeel Sint-Jozef\, 1840\, Belgium
CATEGORIES:Concert
ATTACH;FMTTYPE=image/png:https://amicalekoor.be/wp-content/uploads/2024/11/Amicale-zingt-nu-1.png
ORGANIZER;CN="Amicalekoor":MAILTO:amicalekoor@hotmail.com
END:VEVENT
BEGIN:VEVENT
DTSTART;TZID=Europe/Brussels:20231223T190000
DTEND;TZID=Europe/Brussels:20231223T200000
DTSTAMP:20260422T012835
CREATED:20231107T130436Z
LAST-MODIFIED:20231220T080648Z
UID:1121-1703358000-1703361600@amicalekoor.be
SUMMARY:Amicale zingt Kerst
DESCRIPTION:**Alle kaartjes zijn uitverkocht!**\nVoor wie alsnog wil komen\, dat kan\, maar de mensen met een kaartje hebben voorrang. Zijn er alsnog plaatsjes vrij\, dan kan je uiteraard mee komen genieten \n\n\n\n\n\n\n\n\n \n\nIn een periode van donker en kou brengt het Amicalekoor wat licht. Warme en gezellige kerstmuziek in een Amicaals jasje. Amicale brengt bekende carols afgewisseld door uptempo spirituals\, aangevuld door een hedendaags repetoire. \nNadien kan iedereen genieten van een gratis drankje. \nZaterdag 23 december 2023 \nSint-Amanduskerk\nJozef Vermaesenplein\nMalderen \nDeuren: 18u30\nConcert: 19u00 \nVolw: 15 euro\nKids: 5 euro
URL:https://amicalekoor.be/event/kerstconcert-23-december/
LOCATION:Sint-Amanduskerk Malderen\, Jozef Vermaesenplein 15-21\, Malderen
CATEGORIES:Concert
ORGANIZER;CN="Amicalekoor":MAILTO:amicalekoor@hotmail.com
END:VEVENT
BEGIN:VEVENT
DTSTART;VALUE=DATE:20230611
DTEND;VALUE=DATE:20230612
DTSTAMP:20260422T012835
CREATED:20230519T144857Z
LAST-MODIFIED:20230605T173824Z
UID:1085-1686441600-1686527999@amicalekoor.be
SUMMARY:Aperitiefconcert Amicale in Bloei 11/6
DESCRIPTION:Na ons succesvol optreden ‘Amicale in wederopbouw’ zijn we er opnieuw klaar voor.  \nOmringd door een weelde aan bloemen en planten presenteren we ‘Amicale in bloei’.  \nBreng een bezoek aan de plantentuin in Meise\, en vanaf 11u verwennen we je met een aperitiefconcert met bijbehorend drankje.  \nAchteraf kunnen ook de papa’s een extra drankje nuttigen.  \n  \nKom je ons ook vervoegen? Je kan kaarten verkrijgen via onze leden\, of via amicalekoor@hotmail.com  \n Bij slecht weer: hou onze website en facebookpagina in de gaten\, er is een alternatieve locatie voorzien. 
URL:https://amicalekoor.be/event/aperitiefconcert-amicale-in-bloei-11-6/
LOCATION:Plantentuin Meise\, Nieuwelaan 38\, Meise\, 1860\, België
CATEGORIES:Concert
ATTACH;FMTTYPE=image/jpeg:https://amicalekoor.be/wp-content/uploads/2023/05/Affiche_Amicale-in-bloei_11juni23-scaled.jpg
ORGANIZER;CN="Amicalekoor":MAILTO:amicalekoor@hotmail.com
END:VEVENT
BEGIN:VEVENT
DTSTART;VALUE=DATE:20221211
DTEND;VALUE=DATE:20221212
DTSTAMP:20260422T012835
CREATED:20220823T185858Z
LAST-MODIFIED:20230519T151756Z
UID:1034-1670716800-1670803199@amicalekoor.be
SUMMARY:Amicale in wederopbouw 11/12
DESCRIPTION:Amicale in concert 11/12 \nDeuren 17u30 – Start 18u \nZaal Forever Sint-Niklaasstraat 36\, Steenhuffel \nKaarten verkrijgbaar bij de leden of via amicalekoor@hotmail.com \nPrijs: VVK €12 – Deuren €15
URL:https://amicalekoor.be/event/amicale-in-concert-11-12/
LOCATION:Zaal Forever\, Sint-Niklaasstraat 36\, Steenhuffel\, 1840
CATEGORIES:Concert
ATTACH;FMTTYPE=image/png:https://amicalekoor.be/wp-content/uploads/2022/10/Amicale-affiche.png
END:VEVENT
BEGIN:VEVENT
DTSTART;VALUE=DATE:20201101
DTEND;VALUE=DATE:20201102
DTSTAMP:20260422T012835
CREATED:20201009T075122Z
LAST-MODIFIED:20201016T051229Z
UID:955-1604188800-1604275199@amicalekoor.be
SUMMARY:Soepfestival 1/11
DESCRIPTION:Op Amicale-caffé gaan zit er dit jaar niet in. Om buiten te zitten is het ondertussen te koud. Maar dus ideaal weer om soep te eten.\nGeef jezelf en je bubbel een vitamineboost en bestel hier onze heerlijk huisbereide soepen met garnituur en ze worden jou op 1 november aan huis geleverd. \nReserveren kan tot en met 28/10.\nLevering aan huis op 01/11 voormiddag of namiddag naar keuze na betaling via overschrijving op BE79 9793 2445 8133. \nReservatie via http://bit.ly/amicale-soepfestival (Android gebruikers openen de link rechtstreeks vanuit hun browser om te kunnen reserveren)
URL:https://amicalekoor.be/event/soepfestival-1-11/
ORGANIZER;CN="Amicalekoor":MAILTO:amicalekoor@hotmail.com
END:VEVENT
BEGIN:VEVENT
DTSTART;VALUE=DATE:20191226
DTEND;VALUE=DATE:20191227
DTSTAMP:20260422T012835
CREATED:20190815T110934Z
LAST-MODIFIED:20191007T085513Z
UID:921-1577318400-1577404799@amicalekoor.be
SUMMARY:Kerstconcert 26/12
DESCRIPTION:
URL:https://amicalekoor.be/event/kerstconcert-26-12/
LOCATION:Sint-Amanduskerk Malderen\, Jozef Vermaesenplein 15-21\, Malderen
ATTACH;FMTTYPE=image/png:https://amicalekoor.be/wp-content/uploads/2019/10/flyer-amicale-cafe_2-2.png
END:VEVENT
BEGIN:VEVENT
DTSTART;TZID=Europe/Brussels:20191124T103000
DTEND;TZID=Europe/Brussels:20191124T180000
DTSTAMP:20260422T012835
CREATED:20190815T110755Z
LAST-MODIFIED:20191007T085540Z
UID:919-1574591400-1574618400@amicalekoor.be
SUMMARY:Amicale Café 24/11
DESCRIPTION:
URL:https://amicalekoor.be/event/amicale-cafe-24-11/
LOCATION:Gildenhuis Malderen\, Kloosterstraat 22\, Malderen (Londerzeel)\, 1840
ATTACH;FMTTYPE=image/png:https://amicalekoor.be/wp-content/uploads/2019/08/flyer-amicale-cafe_2-1.png
END:VEVENT
BEGIN:VEVENT
DTSTART;VALUE=DATE:20191012
DTEND;VALUE=DATE:20191013
DTSTAMP:20260422T012835
CREATED:20190815T110635Z
LAST-MODIFIED:20190815T111208Z
UID:916-1570838400-1570924799@amicalekoor.be
SUMMARY:Jaarmarkt Malderen 12/10
DESCRIPTION:
URL:https://amicalekoor.be/event/jaarmarkt-malderen-12-10/
LOCATION:Malderendorp\, Malderendorp\, Malderen
END:VEVENT
BEGIN:VEVENT
DTSTART;TZID=Europe/Brussels:20190609T103000
DTEND;TZID=Europe/Brussels:20190609T103000
DTSTAMP:20260422T012835
CREATED:20190227T075303Z
LAST-MODIFIED:20190227T085649Z
UID:893-1560076200-1560076200@amicalekoor.be
SUMMARY:Sint-Genovevaprocessie Steenhuffel
DESCRIPTION:In 2019 vieren we in Steenhuffel het 140 jaar bestaan van de Genovevaprocessie. Het wordt een echte feesteditie.   \nWaar tot het begin van de 21ste eeuw het Steenhuffelse kerkkoor deelnam aan de processie\, was dat het laatste decennium niet meer het geval. Het koor was te sterk uitgedund en vele zangers hadden een rol elders in de processie. \nHet Amicalekoor neemt deel aan deze feesteditie. We worden uitgedost in kledij die beschikbaar is gesteld door de bloedprocessie van Brugge. De hoofddeksels worden door de naaisters nieuw gemaakt.  \nDe Processie start op Zondag 9 juni 2019 om 10.30u aan op kerkplein van Steenhuffel  \nMeer info: www.genovevaprocessie.be
URL:https://amicalekoor.be/event/sint-genovevaprocessie-steenhuffel-09-06/
LOCATION:Kerkplein Steenhuffel\, Steenhuffeldorp 16A\, Steenhuffel\, 1840\, België
ATTACH;FMTTYPE=image/jpeg:https://amicalekoor.be/wp-content/uploads/2019/02/sint-genovevaprocessie.jpg
ORGANIZER;CN="Amicalekoor":MAILTO:amicalekoor@hotmail.com
END:VEVENT
BEGIN:VEVENT
DTSTART;TZID=Europe/Brussels:20190427T160000
DTEND;TZID=Europe/Brussels:20190427T160000
DTSTAMP:20260422T012835
CREATED:20181229T183540Z
LAST-MODIFIED:20190422T115558Z
UID:810-1556380800-1556380800@amicalekoor.be
SUMMARY:Koortreffen Peizegem
DESCRIPTION:15:30 – deuren open\n16:00 – aanvang concert
URL:https://amicalekoor.be/event/koortreffen-peizegem/
LOCATION:Peizegem
END:VEVENT
BEGIN:VEVENT
DTSTART;TZID=Europe/Brussels:20190310T120000
DTEND;TZID=Europe/Brussels:20190310T200000
DTSTAMP:20260422T012835
CREATED:20181229T100848Z
LAST-MODIFIED:20181229T101138Z
UID:787-1552219200-1552248000@amicalekoor.be
SUMMARY:Eetfestijn 10/03
DESCRIPTION:Ook dit jaar kan je\, voor balletjes met krieken\, pensen met appelmoes\, balletjes in tomatensaus en koude en vegetarische schotels\, terecht op het Amicale Eetfestijn. Neem gerust je familie & vrienden mee. Tot dan!
URL:https://amicalekoor.be/event/eetfestijn-10-03/
LOCATION:Gildenhuis Malderen\, Kloosterstraat 22\, Malderen (Londerzeel)\, 1840
ATTACH;FMTTYPE=application/pdf:https://amicalekoor.be/wp-content/uploads/2018/12/Eetfestijn-2019.pdf
ORGANIZER;CN="Amicalekoor":MAILTO:amicalekoor@hotmail.com
END:VEVENT
BEGIN:VEVENT
DTSTART;TZID=Europe/Brussels:20181104T103000
DTEND;TZID=Europe/Brussels:20181104T180000
DTSTAMP:20260422T012835
CREATED:20180711T065330Z
LAST-MODIFIED:20181229T100958Z
UID:766-1541327400-1541354400@amicalekoor.be
SUMMARY:Amicale Café '18
DESCRIPTION:Breng een bezoekje aan het 2e Amicale café. Je kan in ons gezellig café terecht voor allerlei dranken\, een knabbelbord\, een stukje zelfgebakken taart\, een pannenkoek\, koffie\, thee of een tas verse soep met brood. \nKom langs en geniet van enkele gezellige uurtjes met familie en vrienden!
URL:https://amicalekoor.be/event/amicale-cafe-04-11/
LOCATION:Gildenhuis Malderen\, Kloosterstraat 22\, Malderen (Londerzeel)\, 1840
ATTACH;FMTTYPE=image/png:https://amicalekoor.be/wp-content/uploads/2018/07/Dorpscafe-2018.png
ORGANIZER;CN="Amicalekoor":MAILTO:amicalekoor@hotmail.com
END:VEVENT
BEGIN:VEVENT
DTSTART;TZID=Europe/Brussels:20181006T200000
DTEND;TZID=Europe/Brussels:20181006T200000
DTSTAMP:20260422T012835
CREATED:20180711T064448Z
LAST-MODIFIED:20181229T101008Z
UID:759-1538856000-1538856000@amicalekoor.be
SUMMARY:Carmina Burana '18
DESCRIPTION:
URL:https://amicalekoor.be/event/carmina-burana-18/
LOCATION:Blauwe Zaal deSingel Antwerpen\, Desguinlei 25\, Antwerpen\, 2018\, België
ATTACH;FMTTYPE=image/jpeg:https://amicalekoor.be/wp-content/uploads/2018/07/Carmina-Burana-06-10-18.jpg
END:VEVENT
BEGIN:VEVENT
DTSTART;TZID=Europe/Brussels:20180524T201500
DTEND;TZID=Europe/Brussels:20180524T201500
DTSTAMP:20260422T012835
CREATED:20180320T191230Z
LAST-MODIFIED:20181229T101016Z
UID:718-1527192900-1527192900@amicalekoor.be
SUMMARY:Amicale Filmconcert '18
DESCRIPTION:Amicale gooit het eens over een andere boeg en presenteert een filmconcert. Ons repertoire zorgt ervoor dat je bij wijze van spreken midden op de filmset staat. \nDonderdag 24/05/2018\nZaal Forever\, Sint-Niklaasstraat\, Steenhuffel\nDeuren 19u30 – Concert 20u15 \nKaarten zijn in voorverkoop te verkrijgen aan €8\, of aan de kassa aan 10 euro.\nBestellen kan via amicalekoor@hotmail.com.
URL:https://amicalekoor.be/event/amicale-filmconcert/
LOCATION:Zaal Forever\, Sint-Niklaasstraat 36\, Steenhuffel\, 1840
ORGANIZER;CN="Amicalekoor":MAILTO:amicalekoor@hotmail.com
END:VEVENT
BEGIN:VEVENT
DTSTART;TZID=Europe/Brussels:20180218T120000
DTEND;TZID=Europe/Brussels:20180218T200000
DTSTAMP:20260422T012835
CREATED:20171230T191545Z
LAST-MODIFIED:20180114T144647Z
UID:614-1518955200-1518984000@amicalekoor.be
SUMMARY:Eetfestijn '18
DESCRIPTION:
URL:https://amicalekoor.be/event/eetfestijn2018/
LOCATION:Gildenhuis Malderen\, Kloosterstraat 22\, Malderen (Londerzeel)\, 1840
CATEGORIES:Eetfestijn
ORGANIZER;CN="Amicalekoor":MAILTO:amicalekoor@hotmail.com
END:VEVENT
BEGIN:VEVENT
DTSTART;TZID=Europe/Brussels:20171126T150000
DTEND;TZID=Europe/Brussels:20171126T170000
DTSTAMP:20260422T012835
CREATED:20170906T180228Z
LAST-MODIFIED:20171230T192159Z
UID:536-1511708400-1511715600@amicalekoor.be
SUMMARY:Dessertconcert '17
DESCRIPTION:Als je ons vraagt\, “Wat is er leuker dan een grijze zondagmiddag doorbrengen met koffie en een stukje taart?” \nEen lekker tasje koffie\, een stukje taart met aansluitend een concert met herkenbare\, gezellige luistermuziek gebracht door Amicale\, dat is nóg leuker! \nGraag verwelkomen we jou en je familie op ons dessertconcert\, waar je kan genieten van gekende en minder gekende muziek\, tevens kan je genieten van een warme kop koffie en een stukje taart. Dit alles zal doorgaan op zondag 26 november\, in de Orangerie in Opdorp\, om 15u. Info en kaarten kan je verkrijgen via amicalekoor@hotmail.com. \nVVK: € 8 (concert + taart/koffie/thee inbegrepen)\nKassa: € 10
URL:https://amicalekoor.be/event/dessertconcert/
LOCATION:Zaal Orangerie Opdorp\, Vekenstraat 3\, Opdorp (Buggenhout)\, 9255
CATEGORIES:Concert
ATTACH;FMTTYPE=image/jpeg:https://amicalekoor.be/wp-content/uploads/2016/07/flyers-A32.jpg
ORGANIZER;CN="Amicalekoor":MAILTO:amicalekoor@hotmail.com
END:VEVENT
BEGIN:VEVENT
DTSTART;TZID=Europe/Brussels:20171105T103000
DTEND;TZID=Europe/Brussels:20171105T180000
DTSTAMP:20260422T012835
CREATED:20170906T174806Z
LAST-MODIFIED:20181229T101025Z
UID:532-1509877800-1509904800@amicalekoor.be
SUMMARY:Amicale café '17
DESCRIPTION:Op zondag 5 november 2017 van 10u30 tot 18u kan je in het Gildenhuis van Malderen (Kloosterstraat) een bezoekje brengen aan het 1e Amicale café. Je kan in ons gezellig café terecht voor allerlei dranken\, een knabbelbord\, een stukje zelfgebakken taart met koffie of thee of een tas verse soep met brood. \nZondag 5 november 2017\nZaal Gildenhuis – 22 Kloosterstraat Malderen\nVan 10u30 tot 18u \nTaartenbuffet\nAperitief en aperitiefhapjes\nSoep\nAllerlei dranken
URL:https://amicalekoor.be/event/amicale-cafe/
LOCATION:Gildenhuis Malderen\, Kloosterstraat 22\, Malderen (Londerzeel)\, 1840
CATEGORIES:Concert
ATTACH;FMTTYPE=image/jpeg:https://amicalekoor.be/wp-content/uploads/2016/07/flyers-A3.jpg
ORGANIZER;CN="Amicalekoor":MAILTO:amicalekoor@hotmail.com
END:VEVENT
BEGIN:VEVENT
DTSTART;TZID=Europe/Brussels:20170513T190000
DTEND;TZID=Europe/Brussels:20170513T203000
DTSTAMP:20260422T012835
CREATED:20160720T135818Z
LAST-MODIFIED:20181229T101030Z
UID:63-1494702000-1494707400@amicalekoor.be
SUMMARY:Concert De Ware Vrienden '17
DESCRIPTION:
URL:https://amicalekoor.be/event/concert-ware-vrienden/
CATEGORIES:Concert
END:VEVENT
BEGIN:VEVENT
DTSTART;TZID=Europe/Brussels:20161226T190000
DTEND;TZID=Europe/Brussels:20161226T190000
DTSTAMP:20260422T012835
CREATED:20160720T135156Z
LAST-MODIFIED:20171230T192429Z
UID:61-1482778800-1482778800@amicalekoor.be
SUMMARY:Kerstconcert '16
DESCRIPTION:Na een jaartje over te slaan\, staan we dit jaar weer paraat met een gezellig kerstconcert. Met klassiekers zoals Stille Nacht\, First Noel en Herdertjes lagen bij nachten gaan wij u en uw familie en vrienden in één klap in de kerstsfeer brengen.  \nIn samenwerking met de Landelijke Gilde Londerzeel presenteren wij dit warme concert: \nMaandag 26/12/2016 – Sint-Kristoffelkerk Londerzeel\nDeuren 18u30 – concert 19u00 \nKaarten zijn in voorverkoop te verkrijgen aan €10\, bestellen kan via amicalekoor@hotmail.com of via contactpagina. \nVoor allen op zoek naar een muzikale warme tweede kerstdag\, welkom!
URL:https://amicalekoor.be/event/kerstconcert-16/
LOCATION:Sint-Kristoffelkerk\, Markt\, Londerzeel\, 1840
CATEGORIES:Concert
END:VEVENT
BEGIN:VEVENT
DTSTART;TZID=Europe/Brussels:20161120T120000
DTEND;TZID=Europe/Brussels:20161120T200000
DTSTAMP:20260422T012835
CREATED:20160720T134902Z
LAST-MODIFIED:20160720T134929Z
UID:59-1479643200-1479672000@amicalekoor.be
SUMMARY:Eetfestijn '16
DESCRIPTION:Naar jaarlijkse traditie geeft Amicalekoor Malderen weer een lekker eetfestijn voor groot en klein! Wil jij er ook bij zijn?\nNiet twijfelen! En neem gerust je familie & vrienden mee. Tot dan!
URL:https://amicalekoor.be/event/eetfestijn-16/
LOCATION:Gildenhuis Malderen\, Kloosterstraat 22\, Malderen (Londerzeel)\, 1840
END:VEVENT
BEGIN:VEVENT
DTSTART;TZID=Europe/Brussels:20160925T150000
DTEND;TZID=Europe/Brussels:20160925T170000
DTSTAMP:20260422T012835
CREATED:20160720T133421Z
LAST-MODIFIED:20181229T101041Z
UID:58-1474815600-1474822800@amicalekoor.be
SUMMARY:Concert Carmina Burana '16
DESCRIPTION:Prachtige uitvoering van de klassieker Carmina Burana van Carl Orff. \nIn samenwerking met Dynamic Symphonic Band\, De Minnezangers & Sint-Gregoriusgild\, Viva Voce en Jeugdkoor Keurioso.
URL:https://amicalekoor.be/event/concert-carmina-burana-2/
LOCATION:Kerk Keur\, Ommegancklaan 135\, Dendermonde\, 9200
END:VEVENT
BEGIN:VEVENT
DTSTART;TZID=Europe/Brussels:20160924T200000
DTEND;TZID=Europe/Brussels:20160924T220000
DTSTAMP:20260422T012835
CREATED:20160720T133339Z
LAST-MODIFIED:20171230T192226Z
UID:57-1474747200-1474754400@amicalekoor.be
SUMMARY:Concert Carmina Burana '16
DESCRIPTION:Prachtige uitvoering van de klassieker Carmina Burana van Carl Orff. \nIn samenwerking met Dynamic Symphonic Band\, De Minnezangers & Sint-Gregoriusgild\, Viva Voce en Jeugdkoor Keurioso.
URL:https://amicalekoor.be/event/concert-carmina-burana/
LOCATION:Kerk Keur\, Ommegancklaan 135\, Dendermonde\, 9200
END:VEVENT
BEGIN:VEVENT
DTSTART;TZID=Europe/Brussels:20160923T200000
DTEND;TZID=Europe/Brussels:20160923T220000
DTSTAMP:20260422T012835
CREATED:20160720T133257Z
LAST-MODIFIED:20181229T101049Z
UID:55-1474660800-1474668000@amicalekoor.be
SUMMARY:Concert Carmina Burana '16
DESCRIPTION:Prachtige uitvoering van de klassieker Carmina Burana van Carl Orff. \nIn samenwerking met Dynamic Symphonic Band\, De Minnezangers & Sint-Gregoriusgild\, Viva Voce en Jeugdkoor Keurioso.
URL:https://amicalekoor.be/event/carmina-burana/
LOCATION:Kerk Keur\, Ommegancklaan 135\, Dendermonde\, 9200
END:VEVENT
END:VCALENDAR