BEGIN:VCALENDAR
VERSION:2.0
PRODID:-//Amicalekoor Malderen - ECPv6.15.20//NONSGML v1.0//EN
CALSCALE:GREGORIAN
METHOD:PUBLISH
X-ORIGINAL-URL:https://amicalekoor.be
X-WR-CALDESC:Evenementen voor Amicalekoor Malderen
REFRESH-INTERVAL;VALUE=DURATION:PT1H
X-Robots-Tag:noindex
X-PUBLISHED-TTL:PT1H
BEGIN:VTIMEZONE
TZID:Europe/Brussels
BEGIN:DAYLIGHT
TZOFFSETFROM:+0100
TZOFFSETTO:+0200
TZNAME:CEST
DTSTART:20170326T010000
END:DAYLIGHT
BEGIN:STANDARD
TZOFFSETFROM:+0200
TZOFFSETTO:+0100
TZNAME:CET
DTSTART:20171029T010000
END:STANDARD
BEGIN:DAYLIGHT
TZOFFSETFROM:+0100
TZOFFSETTO:+0200
TZNAME:CEST
DTSTART:20180325T010000
END:DAYLIGHT
BEGIN:STANDARD
TZOFFSETFROM:+0200
TZOFFSETTO:+0100
TZNAME:CET
DTSTART:20181028T010000
END:STANDARD
BEGIN:DAYLIGHT
TZOFFSETFROM:+0100
TZOFFSETTO:+0200
TZNAME:CEST
DTSTART:20190331T010000
END:DAYLIGHT
BEGIN:STANDARD
TZOFFSETFROM:+0200
TZOFFSETTO:+0100
TZNAME:CET
DTSTART:20191027T010000
END:STANDARD
END:VTIMEZONE
BEGIN:VEVENT
DTSTART;TZID=Europe/Brussels:20180218T120000
DTEND;TZID=Europe/Brussels:20180218T200000
DTSTAMP:20260422T093209
CREATED:20171230T191545Z
LAST-MODIFIED:20180114T144647Z
UID:614-1518955200-1518984000@amicalekoor.be
SUMMARY:Eetfestijn '18
DESCRIPTION:
URL:https://amicalekoor.be/event/eetfestijn2018/
LOCATION:Gildenhuis Malderen\, Kloosterstraat 22\, Malderen (Londerzeel)\, 1840
CATEGORIES:Eetfestijn
ORGANIZER;CN="Amicalekoor":MAILTO:amicalekoor@hotmail.com
END:VEVENT
END:VCALENDAR